BEGIN:VCALENDAR
VERSION:2.0
PRODID:-//wp-events-plugin.com//7.2.3.1//EN
TZID:America/Detroit
X-WR-TIMEZONE:America/Detroit
BEGIN:VEVENT
UID:32841@arabamerica.com
DTSTART;TZID=America/Detroit:20240528T170000
DTEND;TZID=America/Detroit:20240528T170000
DTSTAMP:20240515T080731Z
URL:https://www.arabamerica.com/events/zacchi-jordanian-cuisine-food-truck
 /
SUMMARY:Zacchi Jordanian Cuisine Food Truck
DESCRIPTION:MARYLAND HEIGHTS\, MO\n\nPlease come down and enjoy the Zacchi 
 food truck\, in front of the Aventura Clubhouse\, on Tuesday\, May 28th at
  5p. https://www.facebook.com/zacchifoodtruck/
ATTACH;FMTTYPE=image/jpeg:https://www.arabamerica.com/wp-content/uploads/2
 024/05/Screenshot-2024-05-15-005630.png
LOCATION:Aventura at Maryland Oaks\, 2100 E. Aventura Way\, Maryland Height
 s\, Missouri\, United States
GEO:38.698782;-90.457603
X-APPLE-STRUCTURED-LOCATION;VALUE=URI;X-ADDRESS=2100 E. Aventura Way\, Mary
 land Heights\, Missouri\, United States;X-APPLE-RADIUS=100;X-TITLE=Aventur
 a at Maryland Oaks:geo:38.698782,-90.457603
END:VEVENT
BEGIN:VTIMEZONE
TZID:America/Detroit
X-LIC-LOCATION:America/Detroit
BEGIN:DAYLIGHT
DTSTART:20240310T030000
TZOFFSETFROM:-0500
TZOFFSETTO:-0400
TZNAME:EDT
END:DAYLIGHT
END:VTIMEZONE
END:VCALENDAR