BEGIN:VCALENDAR
VERSION:2.0
PRODID:-//wp-events-plugin.com//7.2.3.1//EN
TZID:America/Detroit
X-WR-TIMEZONE:America/Detroit
BEGIN:VEVENT
UID:35306@arabamerica.com
DTSTART;TZID=America/Detroit:20251101T200000
DTEND;TZID=America/Detroit:20251101T213000
DTSTAMP:20251028T003625Z
URL:https://www.arabamerica.com/events/zaid-fouzi-identity-crisis-live-in-
 detroit/
SUMMARY:Zaid Fouzi: Identity Crisis Live in Detroit
DESCRIPTION:DEARBORN\, MI\n\n\n\nZaid Fouzi: Identity Crisis live in Detroi
 t\n\nCome join us for an unforgettable evening with Zaid Fouzi as he perfo
 rms his show\, "Identity Crisis\," at XOXO in Dearborn! His show focuses o
 n the Arab-American upbringing and the journey many Arabs/Muslims face gro
 wing up in the West. From mental health struggles\, to relationships\, to 
 the current status of the Middle East\; Zaid does not shy away from tough 
 topics while sharing a few hilariously embarrassing stories along the way.
 \n\nThe show will take place on Saturday\, November 1. Doors open at 7:30p
 m and the show will begin at 8:00pm (approx. 90 min). Food and drinks (non
  alcoholic) will be served for the show!\n\nZaid Fouzi's Bio:\n\nZaid Fouz
 i is a Syrian-American Comedian based in Chicago\, IL. Known for his anima
 ted storytelling and observational humor\, he performs all over the U.S. a
 nd Canada. Zaid dedicates his comedy to advocating for the Arab-American i
 dentity. He has opened for some of the top Arab comedians including Bassem
  Youseff\, Sammy Obeid\, Ahmed Ahmed\, and Amer Zahr. In 2023\, Zaid compl
 eted a comedy tour across the West Bank in Palestine. His work and story h
 ave been featured on NPR and AlAraby TV.
ATTACH;FMTTYPE=image/jpeg:https://www.arabamerica.com/wp-content/uploads/2
 025/10/https-cdn.evbuc_.com-images-1162459483-814044680853-1-original.2025
 1025-193102.jpeg
LOCATION:Xoxo Hookah Lounge\, 14600 West Warren Avenue \, Dearborn\, MI\, 4
 8126\, United States
GEO:42.344094;-83.187106
X-APPLE-STRUCTURED-LOCATION;VALUE=URI;X-ADDRESS=14600 West Warren Avenue \,
  Dearborn\, MI\, 48126\, United States;X-APPLE-RADIUS=100;X-TITLE=Xoxo Hoo
 kah Lounge:geo:42.344094,-83.187106
END:VEVENT
BEGIN:VTIMEZONE
TZID:America/Detroit
X-LIC-LOCATION:America/Detroit
BEGIN:DAYLIGHT
DTSTART:20250309T030000
TZOFFSETFROM:-0500
TZOFFSETTO:-0400
TZNAME:EDT
END:DAYLIGHT
END:VTIMEZONE
END:VCALENDAR