BEGIN:VCALENDAR
VERSION:2.0
PRODID:-//wp-events-plugin.com//7.2.3.1//EN
TZID:America/Detroit
X-WR-TIMEZONE:America/Detroit
BEGIN:VEVENT
UID:31016@arabamerica.com
DTSTART;TZID=America/Detroit:20230616T193000
DTEND;TZID=America/Detroit:20230616T223000
DTSTAMP:20230510T180907Z
URL:https://www.arabamerica.com/events/zaid-fouzi-standup-comedy-2/
SUMMARY:Zaid Fouzi Standup Comedy
DESCRIPTION:\n\n\n\nLos Angeles\, CA\nZaid Fouzi is a Chicago-based\, Syria
 n-American comedian and actor who performs nationwide. Coming from an Arab
  father and an American mother\, Zaid uses comedy to build bridges\, disse
 ct identity\, and bring his story to life. He uses real-life stories to no
 rmalize the Arab-American upbringing and break stereotypes.\n\n&nbsp\;\n\n
 Zaid tours around the country performing at numerous clubs and universitie
 s. He has been featured at some of the country’s top comedy clubs includ
 ing Gotham\, Stand Up New York\, Zanies\, Laugh Factory\, and many more. H
 e’s opened up for comedians such as Bassem Youseff\, Eagle Witt\, Tim Me
 adows\, and Ismael Loutfi.\n\n&nbsp\;\n\nFriday 6/16\n\nDoors 7:30pm. Show
  8:15pm\n\n$20\n\n\n\n\n\n\n\n\n\n
ATTACH;FMTTYPE=image/jpeg:https://www.arabamerica.com/wp-content/uploads/2
 023/05/Screen-Shot-2023-05-10-at-2.05.38-PM.png
CATEGORIES:Comedy
LOCATION:The Yard Theater\, 4319 Melrose Avenue\, Los Angeles\, CA \, 90029
 \, United States
GEO:34.083896;-118.294731
X-APPLE-STRUCTURED-LOCATION;VALUE=URI;X-ADDRESS=4319 Melrose Avenue\, Los A
 ngeles\, CA \, 90029\, United States;X-APPLE-RADIUS=100;X-TITLE=The Yard T
 heater:geo:34.083896,-118.294731
END:VEVENT
BEGIN:VTIMEZONE
TZID:America/Detroit
X-LIC-LOCATION:America/Detroit
BEGIN:DAYLIGHT
DTSTART:20230312T030000
TZOFFSETFROM:-0500
TZOFFSETTO:-0400
TZNAME:EDT
END:DAYLIGHT
END:VTIMEZONE
END:VCALENDAR