BEGIN:VCALENDAR
VERSION:2.0
PRODID:-//wp-events-plugin.com//7.2.3.1//EN
TZID:America/Detroit
X-WR-TIMEZONE:America/Detroit
BEGIN:VEVENT
UID:35570@arabamerica.com
DTSTART;TZID=America/Detroit:20260301T110000
DTEND;TZID=America/Detroit:20260301T200000
DTSTAMP:20251216T170408Z
URL:https://www.arabamerica.com/events/zn-fashions-houston-ramadan-exhibit
 ion/
SUMMARY:ZN Fashions Houston Ramadan Exhibition
DESCRIPTION:\n\nZN Fashions Houston Ramadan Exhibition\nHello Houston!\n\nS
 tep into the spirit of Ramadan at our exclusive exhibition\, showcasing th
 e finest in modest fashion and exquisite jewelry. Discover a stunning arra
 y of elegant clothing perfect for iftars\, Tarawih prayers\, and Eid celeb
 rations. Find the ideal ensemble that reflects the beauty and serenity of 
 this holy month.\nAdorn yourself with our curated collection of jewelry\, 
 featuring both traditional and modern designs.\n\nJoin us for an unforgett
 able experience where culture\, and fashion intertwine. Our Ramadan clothi
 ng and jewelry exhibition offers a unique opportunity to embrace the essen
 ce of the season while celebrating your personal style. Find the perfect g
 ifts for loved ones or treat yourself to something special and let the spi
 rit of Ramadan shine through your wardrobe and adornments.\n\nOn:\nSunday\
 , March 01\, 2026\nAt:\nMarquee Event Center\n11040 SOUTHWEST FWY\, HOUSTO
 N\, TX 77074\nFrom:\n11am - 8pm\n\n*** FREE ADMISSION AND FREE PARKING ***
 \n\nFor stall booking register yourself at www.znfashions.com/register\nFo
 r exhibition information\, call at 630-776-9407 or send email to israr@zn
 fashions.com.&nbsp\;\n\nYou may also like the following events from ZN Fa
 shions:\n\n 	Happening on\, 18th January\, 11:00 am\, ZN Fashions Houston
  Winter Exhibition in Stafford\n 	Happening on\, 18th January\, 11:00 am\,
  ZN Fashions Atlanta Winter Exhibition in Norcross\n 	Happening on\, 31st
  January\, 11:00 am\, ZN Fashions St. Louis Pre-Ramadan Exhibition in Bal
 lwin\n\nAlso check out other Exhibitions in Stafford.
LOCATION:Marquee Event Center\, 11040 Southwest Fwy\, Houston\, Texas\, Uni
 ted States
GEO:29.660599;-95.559974
X-APPLE-STRUCTURED-LOCATION;VALUE=URI;X-ADDRESS=11040 Southwest Fwy\, Houst
 on\, Texas\, United States;X-APPLE-RADIUS=100;X-TITLE=Marquee Event Center
 :geo:29.660599,-95.559974
END:VEVENT
BEGIN:VTIMEZONE
TZID:America/Detroit
X-LIC-LOCATION:America/Detroit
BEGIN:STANDARD
DTSTART:20251102T010000
TZOFFSETFROM:-0400
TZOFFSETTO:-0500
TZNAME:EST
END:STANDARD
END:VTIMEZONE
END:VCALENDAR