BEGIN:VCALENDAR
VERSION:2.0
PRODID:-//wp-events-plugin.com//7.2.3.1//EN
TZID:America/Detroit
X-WR-TIMEZONE:America/Detroit
BEGIN:VEVENT
UID:35895@arabamerica.com
DTSTART;TZID=America/Detroit:20260308T170000
DTEND;TZID=America/Detroit:20260308T190000
DTSTAMP:20260219T202028Z
URL:https://www.arabamerica.com/events/a-grown-up-me-maamoul-cookie-making
 -experience-and-iftar/
SUMMARY:A Grown-Up & Me Maamoul Cookie Making Experience and Iftar
DESCRIPTION:Celebrate the joy of Eid and the beauty of Middle Eastern tradi
 tions with your little one in this hands-on\, interactive Maamoul-Making C
 lass. Designed for one parent and one child\, this unique experience blend
 s cultural connection\, creativity\, and family bonding.
ATTACH;FMTTYPE=image/jpeg:https://www.arabamerica.com/wp-content/uploads/2
 026/02/image-27-1.webp
CATEGORIES:Baked Cookies,charity fundraiser,Virginia Events
LOCATION:La'Baik\, 2309 Mount Vernon Avenue \, Alexandria\, VA\, 22301\, Un
 ited States
GEO:38.82657;-77.058482
X-APPLE-STRUCTURED-LOCATION;VALUE=URI;X-ADDRESS=2309 Mount Vernon Avenue \,
  Alexandria\, VA\, 22301\, United States;X-APPLE-RADIUS=100;X-TITLE=La'Bai
 k:geo:38.82657,-77.058482
END:VEVENT
BEGIN:VTIMEZONE
TZID:America/Detroit
X-LIC-LOCATION:America/Detroit
BEGIN:DAYLIGHT
DTSTART:20260308T030000
TZOFFSETFROM:-0500
TZOFFSETTO:-0400
TZNAME:EDT
END:DAYLIGHT
END:VTIMEZONE
END:VCALENDAR