BEGIN:VCALENDAR
VERSION:2.0
PRODID:-//wp-events-plugin.com//7.2.3.1//EN
TZID:America/Detroit
X-WR-TIMEZONE:America/Detroit
BEGIN:VEVENT
UID:35886@arabamerica.com
DTSTART;TZID=America/Indiana/Indianapolis:20260227T173000
DTEND;TZID=America/Indiana/Indianapolis:20260227T190000
DTSTAMP:20260217T220350Z
URL:https://www.arabamerica.com/events/bloomington-event-lessons-from-resi
 sting-israeli-militarism-in-palestine/
SUMMARY:Bloomington Event: Lessons from Resisting Israeli Militarism in Pal
 estine
DESCRIPTION:Bloomington\, IN\n\n\n\nA discussion and Q&amp\;A with Sahar Va
 rdi\, anti-militarist and anti-occupation activist from Jerusalem and cons
 cientious objector\n\n\n\n\n\n\nSahar is an anti-militarist and anti-occup
 ation Jewish-Israeli activist from Jerusalem. She is a researcher and camp
 aigner on issues of militarism in Israel and globally\, including export o
 f Israeli militarism worldwide. Previously she worked with the American Fr
 iends Service Committee and was one of the founders of the Database on Isr
 aeli Military and Security Export (dimse.info). In recent years she has ca
 mpaigned and researched around the intersection of climate and militarism\
 , as well as working on issues of activist safety and security.\n\nNo weap
 ons permitted. Tickets will be required for entry. Please use your first a
 nd last name for registration. You will be asked for your ID upon entry. L
 ight refreshments will be available.\n\nThis event is presented in partner
 ship with Jewish Voice for Peace-Indiana\, Indiana Center for Middle Easte
 rn Peace\, and Bloomington DSA.\nEvent location will be shared after regis
 tration.\n\n
ATTACH;FMTTYPE=image/jpeg:https://www.arabamerica.com/wp-content/uploads/2
 026/02/image-13-2.webp
CATEGORIES:#arabic,Arab American,Community,culture,Discussion
END:VEVENT
BEGIN:VTIMEZONE
TZID:America/Indiana/Indianapolis
X-LIC-LOCATION:America/Indiana/Indianapolis
BEGIN:STANDARD
DTSTART:20251102T010000
TZOFFSETFROM:-0400
TZOFFSETTO:-0500
TZNAME:EST
END:STANDARD
END:VTIMEZONE
END:VCALENDAR