BEGIN:VCALENDAR
VERSION:2.0
PRODID:-//wp-events-plugin.com//7.2.3.1//EN
TZID:America/Detroit
X-WR-TIMEZONE:America/Detroit
BEGIN:VEVENT
UID:35780@arabamerica.com
DTSTART;TZID=America/Detroit:20260227T210000
DTEND;TZID=America/Detroit:20260228T010000
DTSTAMP:20260129T161948Z
URL:https://www.arabamerica.com/events/boston-ramadan-night-market/
SUMMARY:Boston Ramadan Night Market
DESCRIPTION:Get ready for a night filled with delicious food\, shopping loc
 ally\, and connections within the community. Join us for a fun evening und
 er the stars\, where you can explore local vendors and enjoy the vibrant n
 ighttime atmosphere. Don't miss out on this exciting event!
ATTACH;FMTTYPE=image/jpeg:https://www.arabamerica.com/wp-content/uploads/2
 026/01/image-5-1.webp
CATEGORIES:Arab,Food,food &amp; drink,Ramadan Festivities,Ramadan Market
LOCATION:Boston City Hall\, 1 City Hall Square \, Boston\, MA\, 02201\, Uni
 ted States
GEO:42.358078;-71.059341
X-APPLE-STRUCTURED-LOCATION;VALUE=URI;X-ADDRESS=1 City Hall Square \, Bosto
 n\, MA\, 02201\, United States;X-APPLE-RADIUS=100;X-TITLE=Boston City Hall
 :geo:42.358078,-71.059341
END:VEVENT
BEGIN:VTIMEZONE
TZID:America/Detroit
X-LIC-LOCATION:America/Detroit
BEGIN:STANDARD
DTSTART:20251102T010000
TZOFFSETFROM:-0400
TZOFFSETTO:-0500
TZNAME:EST
END:STANDARD
END:VTIMEZONE
END:VCALENDAR