BEGIN:VCALENDAR
VERSION:2.0
PRODID:-//wp-events-plugin.com//7.2.3.1//EN
TZID:America/Detroit
X-WR-TIMEZONE:America/Detroit
BEGIN:VEVENT
UID:35855@arabamerica.com
DTSTART;TZID=America/Chicago:20260215T100000
DTEND;TZID=America/Chicago:20260215T120000
DTSTAMP:20260213T154121Z
URL:https://www.arabamerica.com/events/ramadan-for-kids-7/
SUMMARY:Ramadan for Kids (7+)
DESCRIPTION:Join us for a free kids class designed to introduce the basics 
 of Ramadan in a fun and engaging way. Children will learn what Ramadan is\
 , why it is important\, and how families celebrate the holy month. The cla
 ss will include interactive discussion and hands-on arts and crafts to hel
 p bring the lessons to life.\n\nLed by Sister Sophia\, this welcoming in-p
 erson session is perfect for young learners who are curious about Ramadan 
 and excited to participate in creative activities in a supportive environm
 ent.\n\n• 2-hour session\n• In person\n\nRefund Policy\nNo refunds.\n\
 n\n\n\n\n\n\n\n
ATTACH;FMTTYPE=image/jpeg:https://www.arabamerica.com/wp-content/uploads/2
 026/02/image-5-1.webp
CATEGORIES:#arabic,Arab American,Community,culture,Discussion
LOCATION:Downtown Islamic Center\, 231 South State Street\, Chicago\, IL\, 
 60604\, United States
GEO:41.878692;-87.62734929999999
X-APPLE-STRUCTURED-LOCATION;VALUE=URI;X-ADDRESS=231 South State Street\, Ch
 icago\, IL\, 60604\, United States;X-APPLE-RADIUS=100;X-TITLE=Downtown Isl
 amic Center:geo:41.878692,-87.62734929999999
END:VEVENT
BEGIN:VTIMEZONE
TZID:America/Chicago
X-LIC-LOCATION:America/Chicago
BEGIN:STANDARD
DTSTART:20251102T010000
TZOFFSETFROM:-0500
TZOFFSETTO:-0600
TZNAME:CST
END:STANDARD
END:VTIMEZONE
END:VCALENDAR